BEGIN:VCALENDAR
VERSION:2.0
PRODID:-//Discover Plymouth | Where Your Journey Begins - ECPv6.15.20//NONSGML v1.0//EN
CALSCALE:GREGORIAN
METHOD:PUBLISH
X-ORIGINAL-URL:https://discoverplymouth.com
X-WR-CALDESC:Events for Discover Plymouth | Where Your Journey Begins
REFRESH-INTERVAL;VALUE=DURATION:PT1H
X-Robots-Tag:noindex
X-PUBLISHED-TTL:PT1H
BEGIN:VTIMEZONE
TZID:Europe/London
BEGIN:DAYLIGHT
TZOFFSETFROM:+0000
TZOFFSETTO:+0100
TZNAME:BST
DTSTART:20250330T010000
END:DAYLIGHT
BEGIN:STANDARD
TZOFFSETFROM:+0100
TZOFFSETTO:+0000
TZNAME:GMT
DTSTART:20251026T010000
END:STANDARD
BEGIN:DAYLIGHT
TZOFFSETFROM:+0000
TZOFFSETTO:+0100
TZNAME:BST
DTSTART:20260329T010000
END:DAYLIGHT
BEGIN:STANDARD
TZOFFSETFROM:+0100
TZOFFSETTO:+0000
TZNAME:GMT
DTSTART:20261025T010000
END:STANDARD
BEGIN:DAYLIGHT
TZOFFSETFROM:+0000
TZOFFSETTO:+0100
TZNAME:BST
DTSTART:20270328T010000
END:DAYLIGHT
BEGIN:STANDARD
TZOFFSETFROM:+0100
TZOFFSETTO:+0000
TZNAME:GMT
DTSTART:20271031T010000
END:STANDARD
END:VTIMEZONE
BEGIN:VEVENT
DTSTART;TZID=Europe/London:20260627T100000
DTEND;TZID=Europe/London:20260627T223000
DTSTAMP:20260422T112033
CREATED:20260210T180743Z
LAST-MODIFIED:20260313T132101Z
UID:841-1782554400-1782599400@discoverplymouth.com
SUMMARY:Plymouth Armed Forces Day
DESCRIPTION:Plymouth Armed Forces Day\, in association with Babcock\, will return on Saturday 28 June 2026 on Plymouth Hoe. \n  \nArmed Forces Day is a fantastic opportunity for everyone to come along and show their support for the men and women who make up the Armed Forces community from currently serving troops to reservists\, veterans\, cadets and their families. \n  \nThis exciting family day is packed with displays\, parades\, military equipment to explore\, a thrilling arena programme\, air demonstrations\, live music and much more. \n  \nThe Veteran’s Village will include more than 100 charities and organisations offering information and advice.
URL:https://discoverplymouth.com/event/plymouth-armed-forces-day/
LOCATION:Plymouth Hoe\, The Hoe\, Plymouth\, Devon\, PL1 2PA\, United Kingdom
CATEGORIES:Royal & National Days
ATTACH;FMTTYPE=image/jpeg:https://discoverplymouth.com/wp-content/uploads/2026/02/download-2.jpeg
END:VEVENT
END:VCALENDAR