BEGIN:VCALENDAR
VERSION:2.0
PRODID:-//Discover Plymouth | Where Your Journey Begins - ECPv6.15.20//NONSGML v1.0//EN
CALSCALE:GREGORIAN
METHOD:PUBLISH
X-ORIGINAL-URL:https://discoverplymouth.com
X-WR-CALDESC:Events for Discover Plymouth | Where Your Journey Begins
REFRESH-INTERVAL;VALUE=DURATION:PT1H
X-Robots-Tag:noindex
X-PUBLISHED-TTL:PT1H
BEGIN:VTIMEZONE
TZID:Europe/London
BEGIN:DAYLIGHT
TZOFFSETFROM:+0000
TZOFFSETTO:+0100
TZNAME:BST
DTSTART:20250330T010000
END:DAYLIGHT
BEGIN:STANDARD
TZOFFSETFROM:+0100
TZOFFSETTO:+0000
TZNAME:GMT
DTSTART:20251026T010000
END:STANDARD
BEGIN:DAYLIGHT
TZOFFSETFROM:+0000
TZOFFSETTO:+0100
TZNAME:BST
DTSTART:20260329T010000
END:DAYLIGHT
BEGIN:STANDARD
TZOFFSETFROM:+0100
TZOFFSETTO:+0000
TZNAME:GMT
DTSTART:20261025T010000
END:STANDARD
BEGIN:DAYLIGHT
TZOFFSETFROM:+0000
TZOFFSETTO:+0100
TZNAME:BST
DTSTART:20270328T010000
END:DAYLIGHT
BEGIN:STANDARD
TZOFFSETFROM:+0100
TZOFFSETTO:+0000
TZNAME:GMT
DTSTART:20271031T010000
END:STANDARD
END:VTIMEZONE
BEGIN:VEVENT
DTSTART;VALUE=DATE:20260214
DTEND;VALUE=DATE:20260223
DTSTAMP:20260421T112227
CREATED:20260313T140005Z
LAST-MODIFIED:20260313T140005Z
UID:863-1771027200-1771804799@discoverplymouth.com
SUMMARY:Unlimited FREE Returns To Pennywell Farm This Feb Half Term
DESCRIPTION:Discover Endless February Half-Term Fun at Pennywell Farm \nStep into our farmyard and meet a wonderful cast of characters – from our magnificent heavy horses Duchess and Delilah\, to our friendly pigs\, chatty goats\, cuddly pets and so much more. Say hello to our miniature ponies and miniature donkeys\, who are always eager for a fuss. \n  \nFebruary is also the perfect time to fall in love with our early spring babies. \nLook out for playful pygmy goat kids\, adorable piglets\, and plenty of fluffy newcomers around the farm. Our guinea pigs\, rabbits and mice will be ready for their first cuddles of the season too.
URL:https://discoverplymouth.com/event/unlimited-free-returns-to-pennywell-farm-this-feb-half-term/
LOCATION:Pennywell Farm\, Pennywell Farm\, Lower Dean\, Buckfastleigh\, Devon\, TQ11 0LT\, United Kingdom
CATEGORIES:Interactive Activities
ATTACH;FMTTYPE=image/jpeg:https://discoverplymouth.com/wp-content/uploads/2026/02/download-17.jpeg
END:VEVENT
END:VCALENDAR