BEGIN:VCALENDAR
VERSION:2.0
PRODID:-//Discover Plymouth | Where Your Journey Begins - ECPv6.15.20//NONSGML v1.0//EN
CALSCALE:GREGORIAN
METHOD:PUBLISH
X-ORIGINAL-URL:https://discoverplymouth.com
X-WR-CALDESC:Events for Discover Plymouth | Where Your Journey Begins
REFRESH-INTERVAL;VALUE=DURATION:PT1H
X-Robots-Tag:noindex
X-PUBLISHED-TTL:PT1H
BEGIN:VTIMEZONE
TZID:Europe/London
BEGIN:DAYLIGHT
TZOFFSETFROM:+0000
TZOFFSETTO:+0100
TZNAME:BST
DTSTART:20240331T010000
END:DAYLIGHT
BEGIN:STANDARD
TZOFFSETFROM:+0100
TZOFFSETTO:+0000
TZNAME:GMT
DTSTART:20241027T010000
END:STANDARD
BEGIN:DAYLIGHT
TZOFFSETFROM:+0000
TZOFFSETTO:+0100
TZNAME:BST
DTSTART:20250330T010000
END:DAYLIGHT
BEGIN:STANDARD
TZOFFSETFROM:+0100
TZOFFSETTO:+0000
TZNAME:GMT
DTSTART:20251026T010000
END:STANDARD
BEGIN:DAYLIGHT
TZOFFSETFROM:+0000
TZOFFSETTO:+0100
TZNAME:BST
DTSTART:20260329T010000
END:DAYLIGHT
BEGIN:STANDARD
TZOFFSETFROM:+0100
TZOFFSETTO:+0000
TZNAME:GMT
DTSTART:20261025T010000
END:STANDARD
END:VTIMEZONE
BEGIN:VEVENT
DTSTART;VALUE=DATE:20251212
DTEND;VALUE=DATE:20251229
DTSTAMP:20260423T171254
CREATED:20250924T154917Z
LAST-MODIFIED:20250924T154917Z
UID:760-1765497600-1766966399@discoverplymouth.com
SUMMARY:Zooluminate
DESCRIPTION:Zooluminate returns with a magical after-dark experience\, featuring enchanting new light installations across the zoo\, created by the team behind The Atlantic Project and Illuminate Festival of Light. Visitors can enjoy a festive stroll with plenty of selfie spots\, illuminated enclosures\, and the chance to spot animals snuggled up for the night\, all while tucking into a complimentary hot drink and mince pie (GF available). Families can also book Santa’s Grotto\, where children receive a mini plush and enjoy crafts with the elves (£10 for 1 adult + 1 child\, limited slots\, excludes 24–28 Dec). The Jaguar Restaurant will be open daily with seasonal specials until 19:00\, with event admission from 17:00–18:30 and closing at 19:30.
URL:https://discoverplymouth.com/event/zooluminate/
LOCATION:Dartmoor Zoo\, Dartmoor Zoological Society\, Sparkwell\, Plymouth\, Devon\, PL7 5DG\, United Kingdom
CATEGORIES:Festive Events
ATTACH;FMTTYPE=image/jpeg:https://discoverplymouth.com/wp-content/uploads/2025/09/download-2-3.jpeg
END:VEVENT
END:VCALENDAR