BEGIN:VCALENDAR
VERSION:2.0
PRODID:-//Discover Plymouth | Where Your Journey Begins - ECPv6.15.20//NONSGML v1.0//EN
CALSCALE:GREGORIAN
METHOD:PUBLISH
X-WR-CALNAME:Discover Plymouth | Where Your Journey Begins
X-ORIGINAL-URL:https://discoverplymouth.com
X-WR-CALDESC:Events for Discover Plymouth | Where Your Journey Begins
REFRESH-INTERVAL;VALUE=DURATION:PT1H
X-Robots-Tag:noindex
X-PUBLISHED-TTL:PT1H
BEGIN:VTIMEZONE
TZID:Europe/London
BEGIN:DAYLIGHT
TZOFFSETFROM:+0000
TZOFFSETTO:+0100
TZNAME:BST
DTSTART:20240331T010000
END:DAYLIGHT
BEGIN:STANDARD
TZOFFSETFROM:+0100
TZOFFSETTO:+0000
TZNAME:GMT
DTSTART:20241027T010000
END:STANDARD
BEGIN:DAYLIGHT
TZOFFSETFROM:+0000
TZOFFSETTO:+0100
TZNAME:BST
DTSTART:20250330T010000
END:DAYLIGHT
BEGIN:STANDARD
TZOFFSETFROM:+0100
TZOFFSETTO:+0000
TZNAME:GMT
DTSTART:20251026T010000
END:STANDARD
BEGIN:DAYLIGHT
TZOFFSETFROM:+0000
TZOFFSETTO:+0100
TZNAME:BST
DTSTART:20260329T010000
END:DAYLIGHT
BEGIN:STANDARD
TZOFFSETFROM:+0100
TZOFFSETTO:+0000
TZNAME:GMT
DTSTART:20261025T010000
END:STANDARD
END:VTIMEZONE
BEGIN:VEVENT
DTSTART;VALUE=DATE:20251127
DTEND;VALUE=DATE:20251222
DTSTAMP:20260423T200933
CREATED:20250923T180654Z
LAST-MODIFIED:20250923T180654Z
UID:673-1764201600-1766361599@discoverplymouth.com
SUMMARY:Plymouth Christmas Market
DESCRIPTION:Experience the all-new Plymouth Christmas Market\, operated by the award-winning event operators\, Market Place. With 60 international and local traders housed in charming\, traditional chalets\, the Plymouth Christmas Market will be offering an authentic feast of quality Christmas fayre alongside a carefully curated mix of handcrafted goods and bespoke artisan products. Set against the backdrop of Armada Way and New George Street\, the market is an unmissable destination for coach parties\, day-trippers\, and city shoppers alike\, offering the perfect place to tick off your holiday shopping list. Treat yourself to an exotic meat burger\, sip on a warming mug of Glühwein\, or indulge in Italian chocolates and speciality cheeses from around the globe. There’s festive fun for all the family too\, including a traditional carousel and a vintage Helter Skelter offering breathtaking views\, as well as a thrilling slide back to street level for those who dare!
URL:https://discoverplymouth.com/event/plymouth-christmas-market/
LOCATION:Plymouth\, Plymouth\, Devon\, United Kingdom
CATEGORIES:Festive Events
ATTACH;FMTTYPE=image/jpeg:https://discoverplymouth.com/wp-content/uploads/2025/09/download-15.jpeg
END:VEVENT
END:VCALENDAR