BEGIN:VCALENDAR
VERSION:2.0
PRODID:-//Discover Plymouth | Where Your Journey Begins - ECPv6.15.20//NONSGML v1.0//EN
CALSCALE:GREGORIAN
METHOD:PUBLISH
X-ORIGINAL-URL:https://discoverplymouth.com
X-WR-CALDESC:Events for Discover Plymouth | Where Your Journey Begins
REFRESH-INTERVAL;VALUE=DURATION:PT1H
X-Robots-Tag:noindex
X-PUBLISHED-TTL:PT1H
BEGIN:VTIMEZONE
TZID:Europe/London
BEGIN:DAYLIGHT
TZOFFSETFROM:+0000
TZOFFSETTO:+0100
TZNAME:BST
DTSTART:20240331T010000
END:DAYLIGHT
BEGIN:STANDARD
TZOFFSETFROM:+0100
TZOFFSETTO:+0000
TZNAME:GMT
DTSTART:20241027T010000
END:STANDARD
BEGIN:DAYLIGHT
TZOFFSETFROM:+0000
TZOFFSETTO:+0100
TZNAME:BST
DTSTART:20250330T010000
END:DAYLIGHT
BEGIN:STANDARD
TZOFFSETFROM:+0100
TZOFFSETTO:+0000
TZNAME:GMT
DTSTART:20251026T010000
END:STANDARD
BEGIN:DAYLIGHT
TZOFFSETFROM:+0000
TZOFFSETTO:+0100
TZNAME:BST
DTSTART:20260329T010000
END:DAYLIGHT
BEGIN:STANDARD
TZOFFSETFROM:+0100
TZOFFSETTO:+0000
TZNAME:GMT
DTSTART:20261025T010000
END:STANDARD
END:VTIMEZONE
BEGIN:VEVENT
DTSTART;TZID=Europe/London:20251113T160000
DTEND;TZID=Europe/London:20251113T180000
DTSTAMP:20260423T195143
CREATED:20250924T151241Z
LAST-MODIFIED:20250924T151241Z
UID:748-1763049600-1763056800@discoverplymouth.com
SUMMARY:City Centre Christmas Lights Switch On
DESCRIPTION:The Christmas calendar officially kicks off with the switch-on of this year’s spectacular Christmas Lights Switch-On in Plymouth City Centre. This year’s event takes place on Thursday 13 November on the Piazza in Plymouth City Centre. The Lord Mayor of Plymouth\, Councillor Kathy Watkin\, Santa and guests will be on the stage joining in with the countdown to illuminating the city centre with colour and Christmas cheer.
URL:https://discoverplymouth.com/event/city-centre-christmas-lights-switch-on/
LOCATION:Plymouth\, Plymouth\, Devon\, United Kingdom
CATEGORIES:Festive Events
ATTACH;FMTTYPE=image/jpeg:https://discoverplymouth.com/wp-content/uploads/2025/09/download-8-2.jpeg
END:VEVENT
END:VCALENDAR