BEGIN:VCALENDAR
VERSION:2.0
PRODID:-//Discover Plymouth | Where Your Journey Begins - ECPv6.15.20//NONSGML v1.0//EN
CALSCALE:GREGORIAN
METHOD:PUBLISH
X-ORIGINAL-URL:https://discoverplymouth.com
X-WR-CALDESC:Events for Discover Plymouth | Where Your Journey Begins
REFRESH-INTERVAL;VALUE=DURATION:PT1H
X-Robots-Tag:noindex
X-PUBLISHED-TTL:PT1H
BEGIN:VTIMEZONE
TZID:Europe/London
BEGIN:DAYLIGHT
TZOFFSETFROM:+0000
TZOFFSETTO:+0100
TZNAME:BST
DTSTART:20240331T010000
END:DAYLIGHT
BEGIN:STANDARD
TZOFFSETFROM:+0100
TZOFFSETTO:+0000
TZNAME:GMT
DTSTART:20241027T010000
END:STANDARD
BEGIN:DAYLIGHT
TZOFFSETFROM:+0000
TZOFFSETTO:+0100
TZNAME:BST
DTSTART:20250330T010000
END:DAYLIGHT
BEGIN:STANDARD
TZOFFSETFROM:+0100
TZOFFSETTO:+0000
TZNAME:GMT
DTSTART:20251026T010000
END:STANDARD
BEGIN:DAYLIGHT
TZOFFSETFROM:+0000
TZOFFSETTO:+0100
TZNAME:BST
DTSTART:20260329T010000
END:DAYLIGHT
BEGIN:STANDARD
TZOFFSETFROM:+0100
TZOFFSETTO:+0000
TZNAME:GMT
DTSTART:20261025T010000
END:STANDARD
END:VTIMEZONE
BEGIN:VEVENT
DTSTART;VALUE=DATE:20250306
DTEND;VALUE=DATE:20251031
DTSTAMP:20260424T002025
CREATED:20250924T123007Z
LAST-MODIFIED:20250924T123007Z
UID:677-1741219200-1761868799@discoverplymouth.com
SUMMARY:Plymouth Bike Nights
DESCRIPTION:Get ready for the ultimate biker experience as Plymouth Hoe Bike Nights return for 2025! Every Thursday evening from 6 March to 30 October\, the iconic Plymouth Hoe Promenade transforms into a buzzing hub of motorcycling action from 5.30pm to 9pm. Marvel at hundreds of incredible motorcycles of all makes and models\, browse motorcycle trade stands packed with must-have gear\, refuel at a variety of catering stands and enjoy live music on selected nights.
URL:https://discoverplymouth.com/event/plymouth-bike-nights/
LOCATION:Plymouth Hoe\, The Hoe\, Plymouth\, Devon\, PL1 2PA\, United Kingdom
CATEGORIES:Family-Friendly Events
ATTACH;FMTTYPE=image/jpeg:https://discoverplymouth.com/wp-content/uploads/2025/09/download-2.jpeg
END:VEVENT
BEGIN:VEVENT
DTSTART;VALUE=DATE:20250927
DTEND;VALUE=DATE:20251026
DTSTAMP:20260424T002025
CREATED:20250924T125623Z
LAST-MODIFIED:20250924T125623Z
UID:690-1758931200-1761436799@discoverplymouth.com
SUMMARY:The Bazaar: Monthly Marketplace In Plymouth City Centre
DESCRIPTION:Join us for a vibrant celebration featuring a diverse range of local vendors showcasing expertly crafted\, high-quality products. Discover rich cultural experiences\, enjoy delicious offerings\, and soak up the lively atmosphere with live music and entertainment throughout the day.
URL:https://discoverplymouth.com/event/the-bazaar-monthly-marketplace-in-plymouth-city-centre/
LOCATION:Plymouth\, Plymouth\, Devon\, United Kingdom
CATEGORIES:Craft & Vintage Markets,Food & Drink Festivals
ATTACH;FMTTYPE=image/jpeg:https://discoverplymouth.com/wp-content/uploads/2025/09/download-4-1.jpeg
END:VEVENT
BEGIN:VEVENT
DTSTART;VALUE=DATE:20250927
DTEND;VALUE=DATE:20251103
DTSTAMP:20260424T002025
CREATED:20250924T131756Z
LAST-MODIFIED:20250926T125755Z
UID:700-1758931200-1762127999@discoverplymouth.com
SUMMARY:Pumpkin Festival At Pennywell Farm
DESCRIPTION:This event is a must-see for you and your family! Even BIGGER and BETTER than last year\, the 2025 Pumpkin Festival includes: Access to the Pumpkin Patch\, Fabulously Fun Pumpkin Trail\, Live Music\, Marshmallow Toasting Experience\, countless Instagrammable moments\, Paddy the Pumpkin’s Games\, Scarecrow Dress-Up Competition\, Spot the Golden Pumpkin and Guess how many Pumpkins in the jar! Spot the Pumpkins on the Rainbow Railway to earn a sticker. Spot the Autumn Characters on the Tractor & Trailer Ride\, enjoy a Pumpkin Colouring Competition\, with 4 Different Stickers to Earn & Collect! AND SO MUCH MORE! All this is on top of a full day of animal activities\, farm rides\, shows\, and displays there’s something to keep the whole family happy at Devon’s award-winning farm. Begin your day with some piggy cuddles\, milk a goat\, feed the goat kids\, pamper a pony\, and cheer on your favourite racing pig\, and that’s all before midday! Throw yourself into the seasonal spirit this Autumn with the Pennywell Farm Pumpkin Festival. Trust us – you don’t want to miss this!
URL:https://discoverplymouth.com/event/pumpkin-festival-at-pennywell-farm/
LOCATION:Pennywell Farm\, Pennywell Farm\, Lower Dean\, Buckfastleigh\, Devon\, TQ11 0LT\, United Kingdom
CATEGORIES:Children’s Workshops,Family-Friendly Events
ATTACH;FMTTYPE=image/jpeg:https://discoverplymouth.com/wp-content/uploads/2025/09/download-7-1.jpeg
END:VEVENT
BEGIN:VEVENT
DTSTART;TZID=Europe/London:20250927T140000
DTEND;TZID=Europe/London:20250927T170000
DTSTAMP:20260424T002025
CREATED:20250923T145212Z
LAST-MODIFIED:20250924T164319Z
UID:613-1758981600-1758992400@discoverplymouth.com
SUMMARY:Red Bull Up The Mast
DESCRIPTION:The format is simple: successfully grab the flag and you’re through to the next round\, fail to grab it and you’re out. However\, it’s not as easy as it sounds\, the mast is greased up and very slippery\, conquering the mast and snatching the flag will require both speed and skill from anyone brave enough to take it on.
URL:https://discoverplymouth.com/event/red-bull-up-the-mast/
LOCATION:The Barbican And Sutton Harbour\, Plymouth\, Devon\, PL4 0RA\, The Barbican And Sutton Harbour\, Plymouth\, Devon\, PL4 0RA\, United Kingdom
CATEGORIES:Family-Friendly Events
ATTACH;FMTTYPE=image/jpeg:https://discoverplymouth.com/wp-content/uploads/2025/09/download.jpeg
END:VEVENT
END:VCALENDAR