BEGIN:VCALENDAR
VERSION:2.0
PRODID:-//Discover Plymouth | Where Your Journey Begins - ECPv6.15.20//NONSGML v1.0//EN
CALSCALE:GREGORIAN
METHOD:PUBLISH
X-WR-CALNAME:Discover Plymouth | Where Your Journey Begins
X-ORIGINAL-URL:https://discoverplymouth.com
X-WR-CALDESC:Events for Discover Plymouth | Where Your Journey Begins
REFRESH-INTERVAL;VALUE=DURATION:PT1H
X-Robots-Tag:noindex
X-PUBLISHED-TTL:PT1H
BEGIN:VTIMEZONE
TZID:Europe/London
BEGIN:DAYLIGHT
TZOFFSETFROM:+0000
TZOFFSETTO:+0100
TZNAME:BST
DTSTART:20250330T010000
END:DAYLIGHT
BEGIN:STANDARD
TZOFFSETFROM:+0100
TZOFFSETTO:+0000
TZNAME:GMT
DTSTART:20251026T010000
END:STANDARD
BEGIN:DAYLIGHT
TZOFFSETFROM:+0000
TZOFFSETTO:+0100
TZNAME:BST
DTSTART:20260329T010000
END:DAYLIGHT
BEGIN:STANDARD
TZOFFSETFROM:+0100
TZOFFSETTO:+0000
TZNAME:GMT
DTSTART:20261025T010000
END:STANDARD
BEGIN:DAYLIGHT
TZOFFSETFROM:+0000
TZOFFSETTO:+0100
TZNAME:BST
DTSTART:20270328T010000
END:DAYLIGHT
BEGIN:STANDARD
TZOFFSETFROM:+0100
TZOFFSETTO:+0000
TZNAME:GMT
DTSTART:20271031T010000
END:STANDARD
END:VTIMEZONE
BEGIN:VEVENT
DTSTART;VALUE=DATE:20260912
DTEND;VALUE=DATE:20260914
DTSTAMP:20260421T122706
CREATED:20260311T122952Z
LAST-MODIFIED:20260313T125553Z
UID:876-1789171200-1789343999@discoverplymouth.com
SUMMARY:Seafest Plymouth
DESCRIPTION:Plymouth Waterfront Partnership and Plymouth Sound National Marine Park are creating an exciting and immersive experience\, extending the sea-themed events across The Barbican\, Sutton Harbour\, Royal William Yard\, Mount Batten Peninsula\, Tinside Lido\, Trinity Pier\, and Mount Edgcumbe. \n  \nPrepare to dive into a sea of tasty delights\, inspiring demonstrations and thrilling activities\, as the entire waterfront comes alive with excitement.
URL:https://discoverplymouth.com/event/seafest-plymouth/
LOCATION:The Barbican And Sutton Harbour\, Plymouth\, Devon\, PL4 0RA\, The Barbican And Sutton Harbour\, Plymouth\, Devon\, PL4 0RA\, United Kingdom
CATEGORIES:Food & Drink Festivals
ATTACH;FMTTYPE=image/jpeg:https://discoverplymouth.com/wp-content/uploads/2026/03/1080.jpg
END:VEVENT
END:VCALENDAR