BEGIN:VCALENDAR
VERSION:2.0
PRODID:-//Discover Plymouth | Where Your Journey Begins - ECPv6.15.20//NONSGML v1.0//EN
CALSCALE:GREGORIAN
METHOD:PUBLISH
X-WR-CALNAME:Discover Plymouth | Where Your Journey Begins
X-ORIGINAL-URL:https://discoverplymouth.com
X-WR-CALDESC:Events for Discover Plymouth | Where Your Journey Begins
REFRESH-INTERVAL;VALUE=DURATION:PT1H
X-Robots-Tag:noindex
X-PUBLISHED-TTL:PT1H
BEGIN:VTIMEZONE
TZID:Europe/London
BEGIN:DAYLIGHT
TZOFFSETFROM:+0000
TZOFFSETTO:+0100
TZNAME:BST
DTSTART:20250330T010000
END:DAYLIGHT
BEGIN:STANDARD
TZOFFSETFROM:+0100
TZOFFSETTO:+0000
TZNAME:GMT
DTSTART:20251026T010000
END:STANDARD
BEGIN:DAYLIGHT
TZOFFSETFROM:+0000
TZOFFSETTO:+0100
TZNAME:BST
DTSTART:20260329T010000
END:DAYLIGHT
BEGIN:STANDARD
TZOFFSETFROM:+0100
TZOFFSETTO:+0000
TZNAME:GMT
DTSTART:20261025T010000
END:STANDARD
BEGIN:DAYLIGHT
TZOFFSETFROM:+0000
TZOFFSETTO:+0100
TZNAME:BST
DTSTART:20270328T010000
END:DAYLIGHT
BEGIN:STANDARD
TZOFFSETFROM:+0100
TZOFFSETTO:+0000
TZNAME:GMT
DTSTART:20271031T010000
END:STANDARD
END:VTIMEZONE
BEGIN:VEVENT
DTSTART;VALUE=DATE:20260616
DTEND;VALUE=DATE:20261025
DTSTAMP:20260421T123148
CREATED:20260210T180744Z
LAST-MODIFIED:20260313T132630Z
UID:845-1781568000-1792886399@discoverplymouth.com
SUMMARY:The Ballad Of Johnny & June
DESCRIPTION:The Ballad of Johnny & June takes you inside the soaring highs and shattering lows of a love story that defined an era. From the stage to the road\, through triumphs\, heartbreak\, and redemption this brand-new musical\, created with the support of their family and told through the eyes of their son\, John Carter Cash\, shows why Johnny Cash and June Carter Cash remain one of the most influential couples of the 20th Century.
URL:https://discoverplymouth.com/event/the-ballad-of-johnny-june/
LOCATION:Theatre Royal\, Theatre Royal Plymouth\, Royal Parade\, Plymouth\, Devon\, PL1 2TR\, United Kingdom
CATEGORIES:Theatre & Performances
ATTACH;FMTTYPE=image/jpeg:https://discoverplymouth.com/wp-content/uploads/2026/02/download-4.jpeg
END:VEVENT
BEGIN:VEVENT
DTSTART;VALUE=DATE:20260629
DTEND;VALUE=DATE:20260713
DTSTAMP:20260421T123148
CREATED:20260217T130226Z
LAST-MODIFIED:20260313T144408Z
UID:871-1782691200-1783900799@discoverplymouth.com
SUMMARY:Wimbledon On The Big Screen
DESCRIPTION:From 29 June to 12 July\, every match of the Wimbledon Championships will be screened live on a state-of-the-art mobile screen on the Piazza. Over 200 deckchairs will be set out in a specially enclosed viewing area\, allowing visitors to relax and soak up the electric atmosphere. Entry is completely free\, making it the perfect summer experience for tennis fans\, families\, and city centre visitors alike.
URL:https://discoverplymouth.com/event/wimbledon-on-the-big-screen/
LOCATION:The Piazza\, Armada Way\, Plymouth\, Devon\, United Kingdom
CATEGORIES:Sports Fixtures
ATTACH;FMTTYPE=image/jpeg:https://discoverplymouth.com/wp-content/uploads/2026/02/download-21.jpeg
END:VEVENT
BEGIN:VEVENT
DTSTART;VALUE=DATE:20260812
DTEND;VALUE=DATE:20260814
DTSTAMP:20260421T123149
CREATED:20260210T180744Z
LAST-MODIFIED:20260313T131757Z
UID:843-1786492800-1786665599@discoverplymouth.com
SUMMARY:British Firework Championships
DESCRIPTION:The British Firework Championships on Wednesday 12 and Thursday 13 August 2026\, is a must-see event\, showcasing the incredible talent and artistry of six top pyrotechnic companies as the evening turns dark. \n  \nThese experts will compete for the coveted championship title\, presenting ten-minute displays that will leave you impressed. Beyond the fireworks\, immerse yourself in the lively atmosphere of Plymouth Hoe while enjoying the stunning displays above Plymouth Sound.
URL:https://discoverplymouth.com/event/british-firework-championships/
LOCATION:Plymouth Hoe\, The Hoe\, Plymouth\, Devon\, PL1 2PA\, United Kingdom
CATEGORIES:Fireworks & Bonfires
ATTACH;FMTTYPE=image/jpeg:https://discoverplymouth.com/wp-content/uploads/2026/02/download-1.jpeg
END:VEVENT
BEGIN:VEVENT
DTSTART;TZID=Europe/London:20260830T110000
DTEND;TZID=Europe/London:20260830T160000
DTSTAMP:20260421T123149
CREATED:20260407T173513Z
LAST-MODIFIED:20260407T173513Z
UID:935-1788087600-1788105600@discoverplymouth.com
SUMMARY:Central Park Fun Day
DESCRIPTION:We’re bringing a full day of family fun to Central Park! Join us on August 30th 2026\, at the Event Space (adjacent to the play park and The Meadow Cafe) for a day packed with entertainment and excitement. \n  \nThe Central Park Fun Day promises something for everyone: \n  \nNon-Stop Entertainment: Live shows and activities to keep the whole family smiling. \nCarousel: The kids will love bouncing their energy away! \nKids’ Activities: A variety of engaging games and fun just for the little ones. \nMarket Stalls: A bustling marketplace with unique items and local treats.
URL:https://discoverplymouth.com/event/central-park-fun-day/
LOCATION:Central Park\, Central Park\, Plymouth\, Devon\, PL2 3DG\, United Kingdom
CATEGORIES:Family-Friendly Events
ATTACH;FMTTYPE=image/jpeg:https://discoverplymouth.com/wp-content/uploads/2026/04/download-2.jpeg
END:VEVENT
BEGIN:VEVENT
DTSTART;TZID=Europe/London:20261017T193000
DTEND;TZID=Europe/London:20261017T213000
DTSTAMP:20260421T123149
CREATED:20260407T174315Z
LAST-MODIFIED:20260407T174315Z
UID:938-1792265400-1792272600@discoverplymouth.com
SUMMARY:Masie Adam - Whatsherface
DESCRIPTION:Straight off the back of Taskmaster\, A League Of Their Own\, and Last One Laughing\, Maisie Adam is back with her brand new show Whatsherface. \n  \nJoin the “tall\, chaotic one with the weird hair”* as she returns with her trademark wit\, firecracker gags\, and probably a few angry outbursts along the way.
URL:https://discoverplymouth.com/event/masie-adam-whatsherface/
LOCATION:The Quad Theatre\, Derriford Road\, Plymouth\, Devon\, PL6 8BH\, United Kingdom
CATEGORIES:Gigs & Concerts
ATTACH;FMTTYPE=image/jpeg:https://discoverplymouth.com/wp-content/uploads/2026/04/download-3.jpeg
END:VEVENT
END:VCALENDAR