BEGIN:VCALENDAR
VERSION:2.0
PRODID:-//Discover Plymouth | Where Your Journey Begins - ECPv6.15.20//NONSGML v1.0//EN
CALSCALE:GREGORIAN
METHOD:PUBLISH
X-WR-CALNAME:Discover Plymouth | Where Your Journey Begins
X-ORIGINAL-URL:https://discoverplymouth.com
X-WR-CALDESC:Events for Discover Plymouth | Where Your Journey Begins
REFRESH-INTERVAL;VALUE=DURATION:PT1H
X-Robots-Tag:noindex
X-PUBLISHED-TTL:PT1H
BEGIN:VTIMEZONE
TZID:Europe/London
BEGIN:DAYLIGHT
TZOFFSETFROM:+0000
TZOFFSETTO:+0100
TZNAME:BST
DTSTART:20250330T010000
END:DAYLIGHT
BEGIN:STANDARD
TZOFFSETFROM:+0100
TZOFFSETTO:+0000
TZNAME:GMT
DTSTART:20251026T010000
END:STANDARD
BEGIN:DAYLIGHT
TZOFFSETFROM:+0000
TZOFFSETTO:+0100
TZNAME:BST
DTSTART:20260329T010000
END:DAYLIGHT
BEGIN:STANDARD
TZOFFSETFROM:+0100
TZOFFSETTO:+0000
TZNAME:GMT
DTSTART:20261025T010000
END:STANDARD
BEGIN:DAYLIGHT
TZOFFSETFROM:+0000
TZOFFSETTO:+0100
TZNAME:BST
DTSTART:20270328T010000
END:DAYLIGHT
BEGIN:STANDARD
TZOFFSETFROM:+0100
TZOFFSETTO:+0000
TZNAME:GMT
DTSTART:20271031T010000
END:STANDARD
END:VTIMEZONE
BEGIN:VEVENT
DTSTART;VALUE=DATE:20260214
DTEND;VALUE=DATE:20260615
DTSTAMP:20260424T000825
CREATED:20260210T180747Z
LAST-MODIFIED:20260313T135753Z
UID:850-1771027200-1781481599@discoverplymouth.com
SUMMARY:Journeys With Mai
DESCRIPTION:Take a journey of discovery across four gallery spaces exploring the complex histories between Europe and the South Pacific. Centre stage will be ‘Portrait of Mai’ by Plympton-born Sir Joshua Reynolds – widely considered to be his finest work and a portrait of the first Polynesian person to visit Britain.
URL:https://discoverplymouth.com/event/journeys-with-mai/
LOCATION:The Box\, Tavistock Place\, Plymouth\, PL4 8AX\, United Kingdom
CATEGORIES:Exhibitions
ATTACH;FMTTYPE=image/jpeg:https://discoverplymouth.com/wp-content/uploads/2026/02/download-16.jpeg
END:VEVENT
END:VCALENDAR