BEGIN:VCALENDAR
VERSION:2.0
PRODID:-//Discover Plymouth | Where Your Journey Begins - ECPv6.15.20//NONSGML v1.0//EN
CALSCALE:GREGORIAN
METHOD:PUBLISH
X-WR-CALNAME:Discover Plymouth | Where Your Journey Begins
X-ORIGINAL-URL:https://discoverplymouth.com
X-WR-CALDESC:Events for Discover Plymouth | Where Your Journey Begins
REFRESH-INTERVAL;VALUE=DURATION:PT1H
X-Robots-Tag:noindex
X-PUBLISHED-TTL:PT1H
BEGIN:VTIMEZONE
TZID:Europe/London
BEGIN:DAYLIGHT
TZOFFSETFROM:+0000
TZOFFSETTO:+0100
TZNAME:BST
DTSTART:20240331T010000
END:DAYLIGHT
BEGIN:STANDARD
TZOFFSETFROM:+0100
TZOFFSETTO:+0000
TZNAME:GMT
DTSTART:20241027T010000
END:STANDARD
BEGIN:DAYLIGHT
TZOFFSETFROM:+0000
TZOFFSETTO:+0100
TZNAME:BST
DTSTART:20250330T010000
END:DAYLIGHT
BEGIN:STANDARD
TZOFFSETFROM:+0100
TZOFFSETTO:+0000
TZNAME:GMT
DTSTART:20251026T010000
END:STANDARD
BEGIN:DAYLIGHT
TZOFFSETFROM:+0000
TZOFFSETTO:+0100
TZNAME:BST
DTSTART:20260329T010000
END:DAYLIGHT
BEGIN:STANDARD
TZOFFSETFROM:+0100
TZOFFSETTO:+0000
TZNAME:GMT
DTSTART:20261025T010000
END:STANDARD
END:VTIMEZONE
BEGIN:VEVENT
DTSTART;TZID=Europe/London:20251105T183000
DTEND;TZID=Europe/London:20251105T203000
DTSTAMP:20260425T125943
CREATED:20250923T161942Z
LAST-MODIFIED:20250924T162038Z
UID:642-1762367400-1762374600@discoverplymouth.com
SUMMARY:Wine With Milly
DESCRIPTION:Settle into the season with an evening of big\, bold reds perfectly paired with a rich\, hearty autumn stew. Let Milly guide you through a handpicked flight of powerful reds — warming\, full-bodied\, and ideal for the darker nights ahead. Add in comforting food\, cosy company\, and you’ve got the recipe for the perfect autumn evening.
URL:https://discoverplymouth.com/event/wine-with-milly/
LOCATION:Honky Tonk Wine Library\, Sutton Harbour\, Plymouth\, Devon\, PL5 3UT\, United Kingdom
CATEGORIES:Tastings & Pairings
ATTACH;FMTTYPE=image/jpeg:https://discoverplymouth.com/wp-content/uploads/2025/09/download-7.jpeg
END:VEVENT
END:VCALENDAR