BEGIN:VCALENDAR
VERSION:2.0
PRODID:-//Discover Plymouth | Where Your Journey Begins - ECPv6.15.20//NONSGML v1.0//EN
CALSCALE:GREGORIAN
METHOD:PUBLISH
X-ORIGINAL-URL:https://discoverplymouth.com
X-WR-CALDESC:Events for Discover Plymouth | Where Your Journey Begins
REFRESH-INTERVAL;VALUE=DURATION:PT1H
X-Robots-Tag:noindex
X-PUBLISHED-TTL:PT1H
BEGIN:VTIMEZONE
TZID:Europe/London
BEGIN:DAYLIGHT
TZOFFSETFROM:+0000
TZOFFSETTO:+0100
TZNAME:BST
DTSTART:20240331T010000
END:DAYLIGHT
BEGIN:STANDARD
TZOFFSETFROM:+0100
TZOFFSETTO:+0000
TZNAME:GMT
DTSTART:20241027T010000
END:STANDARD
BEGIN:DAYLIGHT
TZOFFSETFROM:+0000
TZOFFSETTO:+0100
TZNAME:BST
DTSTART:20250330T010000
END:DAYLIGHT
BEGIN:STANDARD
TZOFFSETFROM:+0100
TZOFFSETTO:+0000
TZNAME:GMT
DTSTART:20251026T010000
END:STANDARD
BEGIN:DAYLIGHT
TZOFFSETFROM:+0000
TZOFFSETTO:+0100
TZNAME:BST
DTSTART:20260329T010000
END:DAYLIGHT
BEGIN:STANDARD
TZOFFSETFROM:+0100
TZOFFSETTO:+0000
TZNAME:GMT
DTSTART:20261025T010000
END:STANDARD
END:VTIMEZONE
BEGIN:VEVENT
DTSTART;TZID=Europe/London:20251015T100000
DTEND;TZID=Europe/London:20251015T150000
DTSTAMP:20260422T145824
CREATED:20250923T170000Z
LAST-MODIFIED:20250924T162927Z
UID:650-1760522400-1760540400@discoverplymouth.com
SUMMARY:Devon Business Show
DESCRIPTION:Our ground-breaking Devon Business Show is back for 2025 – and you can book your stand now using our interactive map below. The county’s biggest Business Show returns to Plymouth Life Centre on Wednesday 15 October\, promoting inclusivity and featuring exciting\, innovative and interactive displays – plus some exciting new touches for 2025!
URL:https://discoverplymouth.com/event/devon-business-show/
LOCATION:Plymouth Life Centre\, 40 Mayflower Drive\, Plymouth\, Devon\, PL2 3DG\, United Kingdom
CATEGORIES:Businesses
ATTACH;FMTTYPE=image/jpeg:https://discoverplymouth.com/wp-content/uploads/2025/09/download-9.jpeg
END:VEVENT
END:VCALENDAR